BEGIN:VCALENDAR
VERSION:2.0
PRODID:-//hacksw/handcal//NONSGML v1.0//EN
CALSCALE:GREGORIAN
BEGIN:VEVENT
LOCATION:Accès Zone de Loisirs de Cantefrene 33810 Ambès
DESCRIPTION:La balade artistique « Cycle de la graine » commencera au contact de la terre...
DTSTART:20260404T100000
DTEND:20260404T123000
SUMMARY:Balade artistique sur le cycle de la graine
URL;VALUE=URI:https://www.villeambes.fr/agenda/balade-artistique-sur-le-cycle-de-la-graine/
DTSTAMP:20260420T083737
UID:69e5e5d119b03
END:VEVENT
END:VCALENDAR