BEGIN:VCALENDAR
VERSION:2.0
PRODID:-//hacksw/handcal//NONSGML v1.0//EN
CALSCALE:GREGORIAN
BEGIN:VEVENT
LOCATION:5 Rue du Docteur Gustave Couaillac 33810 Ambès
DESCRIPTION:Tous les 2 mois, les bouquins tiennent salon et font causette à la médiathèque !...
DTSTART:20260626T183000
DTEND:20260626T200000
SUMMARY:Apéro-bibli
URL;VALUE=URI:https://www.villeambes.fr/agenda/apero-bibli-10/
DTSTAMP:20260419T155938
UID:69e4fbea1b34a
END:VEVENT
END:VCALENDAR